{"text_format":"2","workbook":"xlsx","n_sheets":1,"sheets":["Sheet1"],"not_rendered":{"charts":0,"images":0,"macros":0,"external_links":0,"defined_names":1,"comments":1,"pivot_tables":0},"unopened":[],"bounds":{"document_bytes":16777216,"sheet_cells":100000,"run_cost":"one","rows_first":2000,"rows_last":500,"rows_between":2000,"halvings":0,"cell_chars":16384,"cell_head_chars":4096},"cells_cut":0,"cells_raw":0,"read":"whole","date_system":"1900"}

{"sheet":"Sheet1","index":0,"n_rows":160,"n_cols":36,"rows_kept":160,"cut":false,"hidden":false,"merged":[]}
["城市","年度","地区生产总值（亿元）","第一产业占比","第二产业占比","第三产业占比","人均地区生产总值（按常住人口）（万元）","人均地区生产总值（按户籍人口）（万元）","地方一般公共预算收入（亿元）","地方一般公共预算支出（亿元）","教育支出（亿元）","科学技术支出（亿元）","年末常住人口（万人）","年末户籍人口（万人）","行政区域土地面积（平方千米）","人口密度（人/平方千米）","城镇化率（%）城镇人口/总人口","年末耕地总资源","建成区面积（平方千米）","固定资产投资（亿元）","房地产开发投资完成额","住宅销售面积（万平方米）\n实际为房地产销售面积","房地产销售金额（亿元）","社会消费品零售总额（亿元）","当年实际使用外资金额（亿美元）","人均城市道路面积（交通节点数量）","空气质量达标天数\n空气优良天数","住宅销售面积（万平方米）","R&D","工业用电情况（万千瓦时）","规模以上工业企业数","规模以上工业企业总产值","工业用地（万元/㎡）","商服用地（万元/㎡）","住宅用地（万元/㎡）","其他用地（万元/㎡）"]
["杭州市上城区",2023,2668.48,0,23.3,76.7,19.3298,{"$f":"C2/N2","v":29.5480013287565},244.94,155.32,{"$f":"J2*0.282","v":43.80024},13.63,139,90.31,122,{"$f":"M2*10000/O2","v":11393.4426229508},100,0,null,null,null,175.7,825.89,1106.95,11.93,null,{"$f":"365*0.851","v":310.615},{"$nulls":5},0.13,3.73,6.57,0.91]
["杭州市上城区",2022,2560.53,0,26.2,73.8,18.9248,{"$f":"C3/N3","v":29.0046443135478},210.56,152.21,{"$f":"J3*0.249","v":37.90029},11.85,137.1,88.28,122,{"$f":"M3*10000/O3","v":11237.7049180328},100,0,null,null,{"$f":"U4*1.012","v":0},186.37,904.26,1073.09,10.9,null,295,144.93,null,131761,94,1001.1883,0.13,3.73,6.57,0.91]
["杭州市上城区",2021,2417.51,0,25,75,18.1767,{"$f":"C4/N4","v":27.9125966978409},201.38,140.78,{"$f":"J4*0.256","v":36.03968},8.1561,133.5,86.61,122,{"$f":"M4*10000/O4","v":10942.6229508197},100,0,null,null,{"$f":"U5*0.881","v":0},208.28,860.07,976.86,6.27,null,null,176.6,null,186373,97,1071.528,0.12,5.92,6.15,0]
["杭州市上城区",2020,1192.06,0,34.5,65.5,{"$f":"C5/M5","v":33.3256919206039},{"$f":"C5/N5","v":37.1597883993728},79.46,52.43,11.75,2,35.77,32.0793,26.06,13760,100,0,null,{"$f":"T6*0.932","v":{"$error":"#REF!"}},null,10.4,null,333.4,9.0261,null,313,10.08,null,62179,37,734.9208,0.18,3.14,6.78,0]
["杭州市上城区",2019,1171.41,0,34.1,65.9,{"$f":"C6/M6","v":33.9539130434783},{"$f":"C6/N6","v":36.7168277232564},85.13,52.55,10.61,1.6,34.5,31.9039,26.06,13260,100,0,null,{"$f":"#REF!*1.011","v":{"$error":"#REF!"}},108.9315,20.7,null,331.96,4.4942,null,252,15.2,null,48366,37,765.5947,0,5.11,5.2,5.86]
["杭州市拱墅区",2023,2091.5,0,9.2,90.8,17.69,{"$f":"C7/N7","v":23.3765507991506},199.18,132.23,35.7,9.33,118.8,89.47,119,{"$f":"M7*10000/O7","v":9983.19327731092},100,null,null,{"$f":"T8*1.148","v":843.206},{"$f":"U8*1.32","v":433.846154808},189.3,null,1363.9,7.45,null,308,{"$nulls":5},0.27,1.72,5.4,0]
["杭州市拱墅区",2022,2000.1,0,9.7,90.3,{"$f":"C8/M8","v":16.9932030586236},{"$f":"C8/N8","v":22.5643050541516},184.29,134.2,33.17,8.1,117.7,88.64,119,9890.75630252101,100,57,null,734.5,{"$f":"U9*1.114","v":328.6713294},180,null,1312.9,2.71,null,304,null,null,25395.02,97,299.4529,0.11,1.97,5.48,0]
["杭州市拱墅区",2021,1949.8,0,9.8,90.2,{"$f":"C9/M9","v":17.0288209606987},{"$f":"C9/N9","v":22.2376824817518},179.54,118.79,30.84,7.05,114.5,87.68,119,9621.8487394958,100,58,null,655.2,{"$f":"U10*1.035","v":295.0371},206.36,null,1273.38,8.63,null,321,null,null,null,88,278.1977,0.3,2.33,5.49,1.32]
["杭州市拱墅区",2020,668.6,0,18.8,81.2,{"$f":"C10/M10","v":10.5125786163522},{"$f":"C10/N10","v":16.1517481622132},86.73,47.43,12.06,2.89,63.6,41.3949,69,9189,100,54,null,{"$f":"T11*0.874","v":{"$error":"#REF!"}},285.06,{"$f":"V11*0.737","v":{"$error":"#REF!"}},null,609,8.12,null,334,null,null,null,78,259.8867,0.25,1.42,5.71,0.29]
["杭州市拱墅区",2019,662.16,0,21.1,78.9,{"$f":"C11/M11","v":11.4244306418219},{"$f":"C11/N11","v":16.6875420552975},91.19,42.07,10.29,1.96,57.96,39.6799,69,8366,100,null,null,{"$f":"#REF!*1.258","v":{"$error":"#REF!"}},{"$f":"U10/0.897","v":317.792642140468},{"$f":"#REF!*1.225","v":{"$error":"#REF!"}},null,620.73,6.04,null,287,null,null,null,77,281.8251,0.26,3.48,0,0.38]
["杭州市西湖区",2023,2087.4,0.2,6.9,92.9,17.86,{"$f":"C12/N12","v":25.5808823529412},233.8,169.3,57.4,null,117.1,81.6,312.43,3749,97.5,2123,10468,555.2,null,119.4,391.7,906.3,4,null,308,null,85.86,null,null,343.2,0.14,1.45,3.1,0]
["杭州市西湖区",2022,1970.1,0.16,7.81,92.03,17.2438,24.6013,233.5,149.8,35.7,null,116.7,80.5,312.43,{"$f":"M13*10000/O13","v":3735.23669301924},97.4,2123,10448,484,null,67.6,217.4,845.7,7.01,null,304,null,81,null,154,394.7927,0.13,1.87,3.72,0]
["杭州市西湖区",2021,1904.2,0.16,7.56,92.28,17.2405,24.2582,175.7,127,45.4,null,111.8,79.6,312.43,{"$f":"M14*10000/O14","v":3578.40156194988},97.1,2112,10394,472.1,null,91.8,314.1,787.6,8.3,null,321,null,68.55,null,151,379.2655,0.12,3.25,3.11,0]
["杭州市西湖区",2020,1587.6,0.19,7.36,92.45,14.7819,20.5128,162,190.6,27.7,null,109.1,77.4,309,3603,97,2133,10381,468.9,null,58.4,204.8,689.7,10.1,null,334,null,67.7,null,134,297.6682,0.11,1.43,2.34,1.25]
["杭州市西湖区",2019,1415.83,0.18,8.76,91.06,16.0161,19.2725,150.64,93.01,20.36,null,90.8,74.9,309,3031,null,2164,10347,457.6,null,54.66,183.28,711.7,7.02,null,287,null,null,null,123,2714.6058,0.31,1.89,0,0.1]
["杭州市萧山区",2023,2230.69,2.6,36.9,60.5,10.4974,{"$f":"C17/N17","v":17.310957628434},332,328.16,68.9,null,214,128.86,931,{"$f":"M17*10000/O17","v":2298.60365198711},91.3,28575,132.6,1589.25,940.25,250.25,null,1006.21,53.16,null,308,null,null,135.86,null,null,0.09,1.96,3.71,0.11]
["杭州市萧山区",2022,2063.95,2.9,38.8,58.3,9.9085,16.3571881439214,318.31,343.13,70.18,null,211,126.18,931,2266,81.1,28575,128.32,1510.56,862.53,276.5,null,905.68,10.6032,null,304,223.9564,null,1308339,1626,3027.7121,0.08,1.43,2.63,0]
["杭州市萧山区",2021,2011.62,2.9,38.5,58.6,9.9228,16.2214337553423,343.03,324.23,62.63,17.4928,205.6,124.01,931,2208,80.9,28759,125.23,1372.1,786.72,488.04,null,813.43,8.8588,null,321,419.2273,null,1404376,1616,2979.0515,0.07,1.24,3.65,0.97]
["杭州市萧山区",2020,1828.47,3.2,37.9,58.9,9.2395,15.23,300.03,275.65,{"$f":"K19/1.102","v":56.8330308529946},14.5631,201.6,121.2012,931,2165.41,80.8,29109,120.73,{"$f":"T19/1.13","v":1214.24778761062},734.53,336.77,null,719.97,8.4151,null,334,297.4659,null,1290989,1480,2504.2895,0.07,1.28,3.63,0.29]
["杭州市萧山区",2019,1847.66,3.2,41.5,55.3,9.7167,15.7,267.66,275.43,51.91,9.9666,194.5,118.9323,931,{"$f":"M21*10000/O21","v":2089.15145005371},80.79,29728,116.05,1076.4557,674.01,270.9,null,771.7693,9.2374,null,287,238.7946,54.51,1355161,1429,2743.51,0.07,2.7,3.72,0]
["杭州市余杭区",2023,2936.43,1.4,11.2,87.4,null,null,416.68,351.38,{"$f":"J22*0.158","v":55.51804},null,140.5,null,942,null,74.6,null,null,{"$f":"T23*1.076","v":0},{"$f":"U23*1.317","v":488.6395299},239.1,null,826.33,8.9,null,{"$f":"365*0.849","v":309.885},{"$f":"AB23*1.074","v":214.8},{"$f":"C22*0.0455","v":133.607565},null,null,null,0.12,1.43,3.27,0.22]
["杭州市余杭区",2022,2651.25,1.6,12.8,85.6,null,null,352.93,334.49,{"$f":"J23*0.151","v":50.50799},null,136.4,72.91,942,null,74.1,17556,null,{"$f":"T24*1.097","v":0},371.0247,220.7,681.1,801.1,10.17,null,306,200,112.9,null,754,1033.0147,0.11,1.38,2.97,1.01]
["杭州市余杭区",2021,2502.2,1.6,13.5,84.9,null,null,375.69,335.61,{"$f":"J24*0.125","v":41.95125},null,null,70.14,942,null,null,17214,null,null,null,183.1,669.5,676.29,11.51,null,300,183.1,null,null,712,1036.6297,0.11,2.89,1.95,0.09]
["杭州市余杭区",2020,3051.61,1.7,22.2,76.1,null,null,441.06,413.64,null,null,null,121.9,1228,1965,null,17439,null,{"$f":"T26*1.076","v":{"$error":"#REF!"}},{"$f":"U26/0.956","v":{"$error":"#REF!"}},418.3,1091.1,822.54,15.78,null,313,368.9,null,null,1277,2093.5233,0.23,1.36,2.66,0.32]
["杭州市余杭区",2019,2824.02,1.9,23.1,75,null,24.99,391.45,376.73,null,null,null,116.18,1228,1540,null,17806,null,{"$f":"#REF!*1.074","v":{"$error":"#REF!"}},{"$f":"#REF!*1.067","v":{"$error":"#REF!"}},392.8,922.2,{"$f":"X25/1.085","v":758.101382488479},10.52,null,{"$f":"365*(0.855-0.148)","v":258.055},344.5,null,null,1203,1925.8869,0.16,0.69,4.43,0.51]
["杭州市富阳区",2023,960.9,5.5,42.2,52.3,{"$f":"C27/M27","v":11.2123687281214},13.7335,100.5,137.6,null,8.7,85.7,70.1432,1821,{"$nulls":4},{"$f":"T28*1.101","v":723.2593413},{"$f":"U28*1.19","v":303.070985},83,162.5,444.4,1.8536,null,341,63.5,null,null,764,null,0.07,0.81,1.36,0.58]
["杭州市富阳区",2022,921.3,5.5,43.9,50.6,10.8568,13.1734,91.7,135.7,24.9926,7.48,85.1,69.7888,1821,467,null,16664,null,656.9113,254.6815,61.4,{"$f":"W27/1.151","v":141.18158123371},438.2,3.5169,null,340,56.7,{"$f":"C28*0.0375","v":34.54875},419700,725,1499.8034,0.06,0.79,1.54,0.16]
["杭州市富阳区",2021,878.2,5.7,44,50.3,10.505,12.6725,105,117.998,23.9644,6.5068,83.9,69.49,1821,461,null,16049,null,561.6841,238.1489,176.4671,391.5195,417.4,3.3897,null,337,164.6491,{"$f":"C29*0.036","v":31.6152},445100,690,1418.7201,0.07,0.53,2.34,0.29]
["杭州市富阳区",2020,807.6,6.2,44.3,49.5,9.7654,11.7112,90.1,102.515,23.7423,5.639,83.3,69.11,1821,457,null,17439,null,412.3077,184.5175,163.4126,339.8082,382.1013,3.108,null,352,146.1266,{"$f":"C30*0.035","v":28.266},470177,616,1155.4518,0.07,0.6,2.08,0.27]
["杭州市富阳区",2019,800.4,6.2,45.2,48.9,9.8568,11.6713,80,105.5038,21.8846,5.6338,82.1,68.81,1821,409,null,15453,null,315.5029,131.1502,131.0317,244.6885,379.7291,3.1747,null,336,113.6544,null,586414,632,1334.3676,0.06,1.39,0,0.14]
["杭州市临安区",2023,686.45,6.9,49.4,43.7,10.5608,{"$f":"C32/N32","v":12.5861752841951},87.6,105.68,20.1,null,65.2,54.54,3119,190,61.2,null,null,{"$f":"T33*0.682","v":{"$error":"#REF!"}},{"$f":"U33*0.504","v":160.47864},55.18,98.61,246.18,2.2,null,328,null,{"$f":"C32*0.0356","v":24.43762},null,null,null,0.08,0.55,1.09,0.12]
["杭州市临安区",2022,672.34,7,50.7,42.3,10.4239,{"$f":"C33/N33","v":12.3819521178637},83.99,106.18,{"$f":"K32/1.052","v":19.106463878327},4.94,64.8,54.3,3119,{"$f":"M33*10000/O33","v":207.758897082398},null,12776,null,{"$f":"T34*1.07","v":{"$error":"#REF!"}},318.41,79.7,155.55,224.28,2.02,null,329,null,{"$f":"C33*0.0356","v":23.935304},null,733,1306.4109,0.07,0.52,1.66,0]
["杭州市临安区",2021,658.35,6.9,50.4,42.7,{"$f":"C34/M34","v":10.2546728971963},12.1638,90.39,103.7,null,4.23,64.2,54.22,3119,{"$f":"M34*10000/O34","v":205.835203590895},null,12083,null,{"$f":"T35*1.146","v":{"$error":"#REF!"}},313.51,230.5,484.81,212.68,2.63,null,346,null,{"$f":"C34*0.0334","v":21.98889},null,708,1245.4624,0.07,0.3,2.06,0.18]
["杭州市临安区",2020,600.41,7.7,46.6,45.7,{"$f":"C35/M35","v":9.45527559055118},11.121,68.56,90.47,null,3.62,{"$f":"M34-0.7","v":63.5},54.03,3119,204,null,11378,null,{"$f":"T36*1.245","v":{"$error":"#REF!"}},278.01,268.87,520.45,190.92,1.88,null,350,null,{"$f":"C35*0.0342","v":20.534022},null,656,996.1411,0.06,0.2,1.85,0.14]
["杭州市临安区",2019,572.94,8,44.9,47.1,{"$f":"C36/M36","v":9.61308724832215},10.6389,61.16,85.62,null,5.06,59.6,53.95,3119,191,null,11456,null,{"$f":"#REF!*1.302","v":{"$error":"#REF!"}},191.53,218,372.02,{"$f":"X35/0.93","v":205.290322580645},2.01,null,341,null,{"$f":"C36*0.0289","v":16.557966},null,607,886.8494,0.06,0.38,1.55,0.15]
["杭州市桐庐县",2023,469.23,6.1,45.8,48.1,null,11.2041,45.03,72.8,21.8,5.16,45.9,41.83,1829,{"$f":"M37*10000/O37","v":250.95680699836},{"$f":"227231*100/418326","v":54.3191195383505},null,null,{"$f":"T38*1.118","v":{"$error":"#REF!"}},47.87,22.94,36.32,173.85,0.92,null,340,20.87,null,null,407,581.72,0.04,0.42,0.71,0.45]
["杭州市桐庐县",2022,441.51,6.2,47.4,46.4,null,10.2901,41.49,75.17,21.21,4.47,45.8,41.93,1829,250.410060142154,{"$f":"226945*100/419276","v":54.1278298781709},11772,null,{"$f":"T39*1.181","v":{"$error":"#REF!"}},62.2,30.66,51.13,166.99,1.93,null,340,29.67,10.79,null,397,590.6063,0.04,0.23,0.76,0.13]
["杭州市桐庐县",2021,414.9043,6.4,46.4,47.2,9.1288,9.8971,38.3973,61.2469,17.1807,3.6297,45.5,41.9217,1829,248.769819573537,{"$f":"225842*100/419217","v":53.872338192392},11371,null,{"$f":"T40*1.295","v":{"$error":"#REF!"}},59.1767,46.97,74.48,158.6157,2.59,null,354,42.06,9.39,168964,386,521.203,0.06,0.25,1.34,0.1]
["杭州市桐庐县",2020,371.7727,6.8,44.7,48.5,8.2342,8.8726,34.2245,56.4082,15.0977,3.0285,45.4,41.922,1829,248,{"$f":"219669*100/419220","v":52.3994561328181},11159,null,{"$f":"T41*1.234","v":{"$error":"#REF!"}},36.9779,39.88,67.07,137.4378,1.42,null,359,35.27,7.74,149698,355,439.3675,0.05,0.38,0.99,0.11]
["杭州市桐庐县",2019,379.02,6.6,45,48.4,8.5174,9.0678,33.77,50.2,13.04,2.67,44.9,41.8803,1829,238,{"$f":"212186*100/418803","v":50.6648710730343},11246,null,{"$f":"#REF!*1.187","v":{"$error":"#REF!"}},{"$f":"U40*0.776","v":28.6948504},36.3,57.57,145.8,1.7,null,348,27.68,null,153725,324,429.1999,0.04,0.19,1.13,0.12]
["杭州市淳安县",2023,280.49,15.8,27.1,57.1,8.684,{"$f":"C42/N42","v":6.27661502726677},26.99,89.41,14.74,null,32.1,44.6881,4427,{"$f":"M42*10000/O42","v":72.5096001807093},52.3,null,null,{"$f":"T43*1.107","v":{"$error":"#REF!"}},{"$f":"U43*0.787","v":30.13423},20.13,23.9,109.42,0.1216,null,355,{"$nulls":4},123.81,0.04,0.18,0,0.13]
["杭州市淳安县",2022,269.51,15.7,26.5,57.8,8.2545,5.9692,23.92,80.71,11.84,1.4978,32.5,45.0242,4427,73.4131466004066,null,15311,null,{"$f":"T44*1.152","v":{"$error":"#REF!"}},38.29,25.57,32.71,94.04,0.6063,null,359,21.81,null,68680,92,115.3301,0.05,0.07,0.78,0.13]
["杭州市淳安县",2021,255.17,15.8,25,59.2,7.8833,5.6983,25.94,77.37,10.28,1.2852,32.8,45.2763,4427,74.0908064151796,null,15009,null,{"$f":"T45*0.852","v":{"$error":"#REF!"}},43.51,32.11,43.9,90.03,0.3326,null,356,29.11,null,66858,97,106.0717,0.04,0.18,0.73,0.13]
["杭州市淳安县",2020,240.34,38.34,63,139,7.3026,5.2604,22.77,76.68,9.47,1.1163,32.9,45.616,4418,74,null,14952,null,{"$f":"T46*0.926","v":{"$error":"#REF!"}},36.45,31.79,43.43,83.74,0.111,null,351,29.37,null,63895.6,83,85.0108,0.03,0.08,0.61,0.09]
["杭州市淳安县",2019,256.13,38.14,78.16,139.83,7.7263,5.5781,21.0871,68.8654,8.12,1.0952,33,45.87,4418,81,null,15097,null,{"$f":"#REF!*0.922","v":{"$error":"#REF!"}},25.79,25.33,36.51,83.99,0.2003,null,334,24.48,null,71047.88,88,109.9047,0.03,0.2,0.73,0.04]
["杭州市建德市",2023,450.11,8.8,47.5,43.7,{"$f":"C47/M47","v":10.1604966139955},8.9307,47.59,87.42,null,{"$f":"L48*1.18","v":4.172716},44.3,50.2521,2314.42,{"$f":"M47*10000/O47","v":191.408646658774},54.3,19266,10.6,{"$f":"T48*1.161","v":{"$error":"#REF!"}},{"$f":"U48*0.618","v":{"$error":"#REF!"}},9.29,13.06,136.01,0.55,null,354,8.52,{"$nulls":4},0.04,0.17,0.23,0.3]
["杭州市建德市",2022,433.54,9.4,50.7,39.9,9.7425,8.5596,41.17,78.55,12.4124,3.5362,44.6,50.5478,2314.42,{"$f":"M48*10000/O48","v":192.704867742242},{"$f":"Q47-0.8","v":53.5},19266,10.6,{"$f":"T49*0.823","v":{"$error":"#REF!"}},{"$f":"U49*0.904","v":{"$error":"#REF!"}},19.27,21.37,129,1.4,null,349,17.27,null,null,415,696.2602,0.04,0.44,2.27,0.12]
["杭州市建德市",2021,425.52,9.1,51.5,39.4,9.7091,{"$f":"C49/N49","v":8.3844653307324},38.5,63.67,11.4442,3.0705,44.4,50.751,2314.42,{"$f":"M49*10000/O49","v":191.840720353263},null,19210,10.6,{"$f":"T50*0.877","v":{"$error":"#REF!"}},{"$f":"U50*1.035","v":{"$error":"#REF!"}},46.3,59.54,126.06,1.3,null,356,42.92,null,328485,392,655.1612,0.04,0.3,1.25,0.15]
["杭州市建德市",2020,388.71,9.5,48.1,42.4,8.8559,{"$f":"C50/N50","v":7.62324451217001},34.23,59.32,10.5367,2.6676,{"$f":"M49/1.002","v":44.311377245509},50.9901,2314.42,{"$f":"M50*10000/O50","v":191.457804743776},null,18916,10.6,{"$f":"T51*0.901","v":{"$error":"#REF!"}},{"$f":"U51*0.919","v":{"$error":"#REF!"}},54.09,66.57,114.07,1.15,null,359,49.89,null,null,366,507.4049,0.03,0.45,0.99,0.08]
["杭州市建德市",2019,377.87,9.4,48.2,42.4,{"$f":"C51/M51","v":8.45346756152125},{"$f":"C51/N51","v":7.39910357805117},31.1,54.15,9.6314,2.6304,44.7,51.0697,2314.42,{"$f":"M51*10000/O51","v":193.136941436731},null,18844,10.6,{"$f":"#REF!*1.127","v":{"$error":"#REF!"}},{"$f":"#REF!*1.083","v":{"$error":"#REF!"}},38.86,43.21,{"$f":"X50/0.993","v":114.874118831823},1.49,null,350,34.3,null,null,302,451.1089,0.03,1.1,1.86,0.12]
["湖州市吴兴区",2023,924.93,2.72,45.47,51.81,{"$f":"C52/M52","v":12.5840816326531},{"$f":"C52/N52","v":20.6457589285714},66.6,null,null,null,73.5,44.8,{"$f":"863-225","v":638},{"$f":"M52*10000/O52","v":1152.03761755486},76,null,null,{"$f":"T53*1.061","v":{"$error":"#REF!"}},null,92.92,null,null,null,503.57,2.3,{"$nulls":4},437,0.07,0.27,0.82,0.17]
["湖州市吴兴区",2022,897.2649,2.8,46.9,50.3,12.342,19.9753,62.4873,69.1239,13.8139,2.4154,{"$f":"103.71-#REF!","v":{"$error":"#REF!"}},44.9,{"$f":"863-225","v":638},{"$f":"M53*10000/O53","v":{"$error":"#REF!"}},74.4,11536,null,{"$f":"T54*1.054","v":{"$error":"#REF!"}},178.6353,177.332,209.3346,156.1475,188.3723,889.9,{"$nulls":4},544029,422,0.09,0.38,0.88,0.1]
["湖州市吴兴区",2021,850.1376,2.6,46.9,50.5,11.8415,18.9369,63.4425,58.4001,14.6048,2.0806,72.7,44.93,{"$f":"863-225","v":638},{"$f":"M54*10000/O54","v":1139.49843260188},73.9,11559,null,{"$f":"T55*1.256","v":{"$error":"#REF!"}},178.3809,216.5036,279.5752,187.4736,251.7061,691.12,{"$nulls":4},508595,436,0.06,0.21,1.35,0.1]
["湖州市吴兴区",2020,752.7509,3,45.4,51.6,{"$f":"C55/M55","v":10.5635164434216},16.7583,51.2045,46.3533,9.887,1.794,71.2595,44.85,{"$f":"863-225","v":638},{"$f":"M55*10000/O55","v":1116.92006269592},{"$f":"522324*100/712595","v":73.2988583978277},10922,null,{"$f":"T56*1.074","v":{"$error":"#REF!"}},156.1307,198.0449,238.5377,181.2857,222.0144,595.8,{"$nulls":4},450951,392,0.07,0.32,0.92,0.19]
["湖州市吴兴区",2019,726.9786,{"$nulls":4},16.1398,45.5456,47.4537,8.7052,1.6704,null,44.98,{"$f":"863-225","v":638},null,null,11219,null,{"$f":"#REF!*1.146","v":{"$error":"#REF!"}},156.095,159.5621,195.6703,143.2029,177.1908,406.06,{"$nulls":4},422446,335,0.04,0.2,0,0.07]
["湖州市南浔区",2023,585.03,5.28,56.55,38.17,{"$f":"C57/M57","v":10.6369090909091},{"$f":"C57/N57","v":12.1627858627859},42.1,67.5,null,null,55,48.1,702,null,57.6,null,null,{"$f":"T58*1.061","v":{"$error":"#REF!"}},{"$f":"U58*0.96","v":75.812064},57.03,57.23,48.49,51.95,{"$f":"Z58*1.07","v":225.106135704262},0.4,{"$nulls":4},972,0.06,0.28,0.77,0.09]
["湖州市南浔区",2022,559.2367,5.6,58.1,36.3,10.2368057843676,11.522,39.5487,68.9242,14.2112,2.0764,54.63,48.43,702,{"$f":"M58*10000/O58","v":778.205128205128},56.9,15654,null,{"$f":"T59*1.12","v":{"$error":"#REF!"}},78.9709,59.4628,61.4522,49.8261,55.0659,{"$f":"Z59*1.025","v":210.37956607875},1.89,null,null,null,403086,954,0.06,0.21,0.86,0.09]
["湖州市南浔区",2021,528.2858,5.4,58.5,36.1,9.69331743119266,10.832,43.0457,66.1797,11.1877,1.7701,54.5,48.64,702,776.353276353276,56.7,14991,null,{"$f":"T60*1.298","v":{"$error":"#REF!"}},78.6455,112.1208,120.7567,89.2794,102.1589,{"$f":"Z60*1.091","v":205.24835715},0.26,null,null,null,421503,1079,0.04,0.23,0.64,0.32]
["湖州市南浔区",2020,467.8302,5.7,57.9,36.4,8.61741903040953,9.5573,40.4597,55.2216,10.0885,1.538,54.2889,48.9,702,773.346153846154,{"$f":"307204*100/542889","v":56.5868897693635},13506,null,{"$f":"T61*1.076","v":{"$error":"#REF!"}},80.8244,129.0275,132.7343,112.807,121.1608,{"$f":"Z61*0.939","v":188.12865},0.52,null,null,null,368750,1076,0.04,0.51,0.59,0.11]
["湖州市南浔区",2019,458.7944,5.2,59.7,35.1,8.2621,9.3471,37.9252,49.014,9.0202,1.3075,{"$f":"458.01*10000/82621","v":55.4350588833347},49.04,702,789.673203466307,null,13554,null,{"$f":"#REF!*1.135","v":{"$error":"#REF!"}},68.3018,106.5568,97.1579,98.5434,91.1198,200.35,1.22,null,null,null,388484,1119,0.04,0.16,0,0.1]
["湖州市德清县",2023,680.66,4.02,56.78,39.2,12.2531,{"$f":"C62/N62","v":15.3995475113122},85,107.5,null,null,55.72,44.2,938,{"$f":"M62*10000/O62","v":594.029850746269},63.45,null,null,{"$f":"T63*1.15","v":{"$error":"#REF!"}},{"$f":"U61*1.021","v":69.7361378},52.3,64.7,42.7,null,184.7,2.8,{"$nulls":4},950,0.09,0.25,0.67,0.17]
["湖州市德清县",2022,658.207,4.2,57.8,38,{"$f":"C63/M63","v":11.8852834958469},14.8538,79.842,101.568,15.2711,5.1733,55.38,44.32,938,590.405117270789,62.7,16822,41.42,{"$f":"T64*1.154","v":{"$error":"#REF!"}},97.8632,68.9595,102.3231,56.7807,86.7738,216.6308,3.0553,null,null,27.65,422666,908,0.08,0.27,0.85,0.15]
["湖州市德清县",2021,617.9189,4.3,57.8,37.9,11.1739403254973,13.944,83.2467,79.9753,14.4354,4.4984,55.3,44.3,938,589.55223880597,62.4,16427,41,{"$f":"T65*1.155","v":{"$error":"#REF!"}},81.4002,106.8047,163.3915,94.9381,150.5376,213.1039,3.1525,null,null,null,436873,875,0.07,0.62,1.45,0.15]
["湖州市德清县",2020,544.1498,4.6,56.1,39.3,9.91945939245454,12.2788,67.082,78.2193,13.757,3.8744,54.8568,44.32,938,584.827292110874,{"$f":"341128*100/548568","v":62.1851803240437},17144,39,{"$f":"T66*1.069","v":{"$error":"#REF!"}},76.5206,118.9106,184.2364,113.1715,177.1751,195.6161,3.728,null,null,null,381646,785,0.07,0.33,1.18,0.12]
["湖州市德清县",2019,536.0992,1.4,57.7,37.9,null,12.1085,65.6609,83.6558,13.6008,3.8405,null,44.31,938,null,null,17280,37,{"$f":"#REF!*1.143","v":{"$error":"#REF!"}},72.5605,114.7582,184.3593,112.3481,180.7587,209.4267,3.6459,null,null,null,367433,746,0.06,0.44,0.53,0.07]
["湖州市长兴县",2023,893.98,4.56,48.85,46.59,13.1275,{"$f":"C67/N67","v":14.0673485444532},87.22,119.98,null,null,68.16,63.55,938,null,65.1,null,48,{"$f":"T68*1.075","v":{"$error":"#REF!"}},{"$f":"93.6348*0.828","v":77.5296144},63.1,72.2,null,null,354.5,1.8373,{"$nulls":4},993,0.06,0.42,0.82,0.26]
["湖州市长兴县",2022,853.3656,5.2,51.1,43.7,12.568,13.39,81.8826,117.1722,19.3065,5.1417,67.98,63.71,1431,{"$f":"M68*10000/O68","v":475.052410901468},64.3,23892,48,{"$f":"T69*1.024","v":{"$error":"#REF!"}},93.6348,75.1972,90.7847,62.1295,80.4238,327.6432,3.861,null,null,null,816873,955,0.06,0.53,0.65,0.21]
["湖州市长兴县",2021,801.9122,5.2,50.2,44.6,11.846,12.577,82.75,101.8,17.9771,4.4277,67.8,63.75,1431,473.794549266247,64,23375,48,{"$f":"T70*0.857","v":{"$error":"#REF!"}},93.5137,153.1282,169.0858,146.2059,163.577,318.4254,2.0042,null,null,null,809061,928,0.05,0.45,1.07,0.1]
["湖州市长兴县",2020,702.3938,5.2,49.5,45.3,{"$f":"C70/M70","v":10.4247375982522},11.0181,67.5539,90.2017,16.9827,3.8461,67.3776,63.77,1431,470.842767295597,{"$f":"430311*100/673776","v":63.86558737622},13097,48,{"$f":"T71*1.062","v":{"$error":"#REF!"}},89.0837,141.7439,141.9544,127.1903,133.0518,297.3135,2.8551,null,null,null,728929,851,0.05,0.5,0.82,0.17]
["湖州市长兴县",2019,692.9609,5.1,51.3,43.6,null,10.8811,65.8269,81.095,15.5719,3.6123,null,63.73,1431,null,null,23690,48,{"$f":"#REF!*1.112","v":{"$error":"#REF!"}},85.9007,152.6186,152.2641,140.804,143.3171,305.937,3.6459,null,null,null,728717,789,0.05,0.17,0.21,0.12]
["湖州市安吉县",2023,615.12,5.24,43.93,50.82,{"$f":"C72/M72","v":10.252},{"$f":"C72/N72","v":12.9389987379049},65.11,93.72,17.63,null,60,47.54,1886,{"$f":"M72*10000/O72","v":318.13361611877},61.9,null,null,300.23,81.77,67.37,85.44,60.14,79.81,240.84,{"$nulls":5},604,0.06,0.43,0.85,0.31]
["湖州市安吉县",2022,582.3726,5.2,46.8,48,{"$f":"C73/M73","v":9.76971313537997},12.2653,62.4837,94.1874,16.4048,5.875,59.61,47.53,1886,316.065747613998,61.1,16089,39.2,244.88,83.7489,100.2517,106.6725,83.4827,99.8828,165.2058,1.4745,null,null,null,268322,588,0.06,0.46,0.75,0.14]
["湖州市安吉县",2021,566.349,4.9,48.4,46.7,{"$f":"C74/M74","v":9.51847058823529},11.9537,65.8286,88.6692,15.5081,5.0862,59.5,47.43,1886,315.482502651113,61,15941,39,227.64,80.3936,139.5877,182.5702,132.5212,174.3939,158.2302,0.7204,null,null,null,288719,580,0.05,0.22,0.66,0.11]
["湖州市安吉县",2020,487.0578,5.8,44.4,49.8,{"$f":"C75/M75","v":8.30576952263693},10.3841,59.7599,86.2222,15.0195,4.4167,58.6409,47.32,1886,310.927359490986,{"$f":"355179*100/586409","v":60.5684769503879},15842,39,187.59,71.4181,129.5088,165.6441,119.317,155.0964,147.6007,2.1048,null,null,null,243741,522,0.06,0.27,0.42,0.13]
["湖州市安吉县",2019,470.7257,{"$nulls":4},9.9853,53.5632,87.5665,14.9795,4.379,null,47.22,1886,null,null,15928,39,175.43,70.9893,123.9544,145.7336,113.8353,137.117,146.3255,3.1039,null,null,null,225575,466,0.05,0.36,0.34,0.17]
["绍兴市柯桥区",2023,2030.29,2.1,50.1,47.8,{"$f":"C77/M77","v":18.0550466874166},28.8865,142.23,139.15,null,null,112.45,70.37,1066,null,83.7,null,null,{"$f":"T78*1.124","v":{"$error":"#REF!"}},214.72,163.98,280.84,null,null,448.98,2.65,{"$nulls":5},0.06,0.5,1.59,0.15]
["绍兴市柯桥区",2022,1901.36,2.2,51,46.7,17.0602,27.1608,132.591,137.2737,31.3166,9.35,111.57,70.2,1066,3353,83.1406292,9255,81,{"$f":"T79*1.101","v":{"$error":"#REF!"}},207.9265,178.18,252.6103,95.91,179.6493,401.0715,5.0719,null,null,56.67,1454184,1340,0.06,0.5,1.59,0.15]
["绍兴市柯桥区",2021,1758.2996,2.3,50,47.7,15.8691,25.1382,147.1416,132.916,31.2959,8.118,111.34,69.81,1066,3836,null,9234,81,{"$f":"T80*1.007","v":{"$error":"#REF!"}},200.1472,269.81,429.915,170.11,339.827,383.6152,2.5693,null,null,48.86,1530828,1286,0.08,0.62,1.88,0.16]
["绍兴市柯桥区",2020,1510.6629,2.6,48.4,49.1,13.7709,21.8843,137.2348,129.6878,30.1668,7.0545,110.29,69.26,1066,3571,null,9317,79.99,{"$f":"T81*1.068","v":{"$error":"#REF!"}},245.7824,328.98,532.007,240.76,464.5454,354.3457,2.0793,null,null,41.14,1359138,1209,0.06,1.32,1.48,0.32]
["绍兴市柯桥区",2019,1502.1777,2.5,50.2,47.3,13.8533,21.9408,131.4074,126.9886,28.999,6.907,100.02,68.8,1066,3098,80.09,9381,77,{"$f":"#REF!*1.089","v":{"$error":"#REF!"}},210.1282,338.54,407.7485,208.96,312.3316,362.0995,2.0722,null,null,42.67,1427884,1229,0.08,0.59,1.95,0]
["绍兴市上虞区",2023,1317.72,4.1,51.5,44.3,{"$f":"C82/M82","v":16.4140508221226},18.4995,97.67,137.5,null,null,80.28,71.04,1406,null,69.8,null,null,{"$f":"T83*1.2","v":{"$error":"#REF!"}},148.17,120.69,161.62,null,null,446.76,2.7946,null,null,null,631900,873,0.05,0.5,1.32,0.43]
["绍兴市上虞区",2022,1241.7613,4.5,52.2,43.3,15.5902,17.3525,91.0102,137.2878,25.8322,8.3696,79.77,71.42,1406,2418,68.94822615,26087,47.96,{"$f":"T84*1.131","v":{"$error":"#REF!"}},127.8825,201.03,127.0197,54.31,97.5711,416.0253,1.9697,null,null,41.43,608920,866,0.05,0.49,1.37,0.19]
["绍兴市上虞区",2021,1141.0101,4.6,50.3,45.1,14.3073,15.8022,100.1046,129.6759,21.8521,7.2734,79.54,71.71,1362,2400,null,28327,47.96,{"$f":"T85*1.133","v":{"$error":"#REF!"}},115.5945,145.56,164.6892,93.73,136.8819,402.1487,1.9509,null,null,36.93,560809,825,0.05,0.4,1.61,0]
["绍兴市上虞区",2020,1043.4991,5,49.3,45.7,12.4078,13.4041,93.6898,121.0462,21.5381,6.3134,84.37,77.75,1406,2368,null,28493,46,{"$f":"T86*1.133","v":{"$error":"#REF!"}},98.9182,80.13,238.244,144.16,218.9307,452.4131,3.3594,null,null,37.16,507438,813,0.05,0.69,1.13,0.09]
["绍兴市上虞区",2019,983.6516,5.1,51.6,43.3,11.776,12.6122,89.5152,104.4758,21.4921,6.1518,79.85,77.94,1406,2339,62.14,28699,45,{"$f":"#REF!*1.113","v":{"$error":"#REF!"}},90.3092,126.78,176.5632,114.73,166.3135,436.8745,3.4694,null,null,33.17,494196,785,0.04,0.37,0.49,0.15]
["绍兴市诸暨市",2023,1755.29,3.2,47.1,49.8,{"$f":"C87/M87","v":14.2799381711682},16.3501,97.2,126.2,null,1.72,122.92,107.07,2311,null,65.3,null,null,{"$f":"T88*1.077","v":{"$error":"#REF!"}},132.44,149.97,209.83,99.22,160.98,576.19,1.04,{"$nulls":4},1315,0.08,0.2,1.15,0.08]
["绍兴市诸暨市",2022,1658.8419,3.5,48.8,47.7,13.6306,153884,90.2845,123.3624,30.5916,1.4901,121.93,107.64,2311,1284,63.64307389,32529,71.48,{"$f":"T89*1.102","v":{"$error":"#REF!"}},171.9794,167.74,212.8043,113.37,173.9773,526.3478,0.7535,null,null,40.01,783200,1279,0.07,0.31,1.7,0]
["绍兴市诸暨市",2021,1531.605,3.5,47.5,49,12.6631,14.3038,100.2043,119.1055,27.9941,1.252,121.51,107.95,2311,1260,null,32525,87.2,{"$f":"T90*1.134","v":{"$error":"#REF!"}},166.3376,231.81,285.2195,177.04,248.1823,500.5381,1.3509,null,null,36.66,808894,1197,0.06,0.35,1.92,0.26]
["绍兴市诸暨市",2020,1346.9804,3.8,45.3,50.9,11.2062,12.4299,90.3182,117.645,24.6806,1.0146,120.41,108.3,2311,1199,null,32258,86,{"$f":"T91*1.07","v":{"$error":"#REF!"}},147.218,263.13,284.9479,207.74,250.0675,462.4624,1.1254,null,null,30.82,681066,1088,0.06,0.18,1.24,0.1]
["绍兴市诸暨市",2019,1310.2347,3.6,49.3,47.1,10.9364,12.0776,89.8144,110.5037,23.2118,9.2611,118.78,108.43,2311,1256,60.47,32415,68.8,{"$f":"#REF!*1.073","v":{"$error":"#REF!"}},136.1339,224.25,197.8364,167.36,171.0381,475.4372,0.6296,null,null,24.71,715129,1184,0.05,0.14,1.07,0.12]
["绍兴市嵊州市",2023,750.36,6,44.9,49.1,{"$f":"C92/M92","v":10.7934407364787},10.8356,50.81,92.52,null,null,69.52,70.3734,1789,null,60.1,null,null,{"$f":"T93*1.08","v":{"$error":"#REF!"}},54.23,61.07,null,72.34,null,333.38,0.6366,null,null,null,275000,730,0.06,0.13,0.7,0.1]
["绍兴市嵊州市",2022,711.0757,6.3,46.5,47.3,10.3204,10.3024,47.284,104.1889,16.3354,7.4845,69.02,70.9739,1789,1584,58.88148363,24681,43.7,{"$f":"T94*1.153","v":{"$error":"#REF!"}},75.0955,67.16,66.4173,41.42,48.4104,298.1273,0.2358,null,null,17.05,245107,715,0.05,0.27,0.59,0.09]
["绍兴市嵊州市",2021,658.8677,6.3,44.8,48.9,9.6255,9.1832,52.027,80.2139,15.2171,6.4503,68.82,71.45,1789,1456,null,23860,42.5,{"$f":"T95*1.137","v":{"$error":"#REF!"}},82.0254,111.14,108.4581,82.34,87.073,285.4106,0.1829,null,null,14.93,224224,661,0.04,0.41,0.82,0.27]
["绍兴市嵊州市",2020,591.012,7,43.1,49.9,8.6786,8.1883,45.8205,72.1798,13.4886,5.5265,68.12,71.94,1789,1450,null,28493,41.99,{"$f":"T96*0.821","v":{"$error":"#REF!"}},81.513,130.05,114.5837,122.99,110.5477,266.7409,0.2008,null,null,13.34,184639,606,0.04,0.59,0.75,0.12]
["绍兴市嵊州市",2019,587.8762,6.7,48.1,45.2,8.6325,8.1062,45.759,75.9482,15.532,5.5854,69.43,72.41,1789,1469,60.02,25811,41.4,{"$f":"#REF!*1.025","v":{"$error":"#REF!"}},87.0705,87.25,70.1378,73.3,63.5441,286.2029,0.0921,null,null,14.94,191787,719,0.04,0.47,0.42,0.16]
["绍兴市新昌县",2023,606.67,4.2,51.3,44.5,{"$f":"C97/M97","v":14.7357299004129},14.1851,46.3,73.7,null,null,41.17,42.65,1214,null,65.1,null,null,{"$f":"T98*1.176","v":{"$error":"#REF!"}},50.67,50.47,null,56.06,null,222.07,0.6425,{"$nulls":5},0.05,0.79,0.61,0.4]
["绍兴市新昌县",2022,564.754,4.5,51.5,44.1,13.859,13.1473,41.6516,71.0659,13.229,7.059,40.81,42.89,1214,1287,63.88140162,16625,33.67,{"$f":"T99*1.152","v":{"$error":"#REF!"}},37.9468,54.33,59.5575,33.13,48.1706,195.9843,0.2609,null,null,24.94,185211,370,0.08,0.77,1.16,0.79]
["绍兴市新昌县",2021,518.7171,4.6,50.4,45,12.8078,11.9991,44.9491,69.787,13.1681,6.1314,40.7,43.02,1214,1261,null,16764,33.3,{"$f":"T100*1.062","v":{"$error":"#REF!"}},36.0173,71.8,72.1732,57.48,63.8331,182.7352,0.2215,null,null,22.75,185248,352,0.04,0.85,1.48,0.55]
["绍兴市新昌县",2020,462.0674,4.9,47.9,47.2,11.4942,10.6729,43.721,64.5682,12.5109,5.3232,40.3,43.22,1214,1173,null,16981,27.19,{"$f":"T101*0.986","v":{"$error":"#REF!"}},42.9197,74.57,63.5721,59.83,55.5464,165.9779,0.0803,null,null,20.22,154753,315,0.04,0.48,0.77,1.05]
["绍兴市新昌县",2019,453.9964,4.9,49.6,45.5,11.3471,10.4546,43.6635,64.345,12.4256,5.3063,38.84,43.37,1214,1136,61.46,17001,27.19,{"$f":"#REF!*0.967","v":{"$error":"#REF!"}},39.215,74.19,56.392,50.17,45.5692,170.2497,0.1,null,null,18.58,154181,306,0.04,0.07,0.32,0.06]
["温州市鹿城区",2023,1401.08,0.2,24.6,75.2,11.6707,{"$f":"C102/N102","v":17.4025586883617},35.91,88.7,{"$f":"K103*1.132","v":26.94726},{"$f":"L103*1.151","v":3.5798402},120.94,80.51,293,{"$f":"M102*10000/O102","v":4127.64505119454},91.2,null,null,{"$f":"T103*1.131","v":637.96317},{"$f":"U103*0.156","v":66.5073396},{"$nulls":4},882.04,0.8135,{"$nulls":4},393,0.15,1.46,2.24,0.24]
["温州市鹿城区",2022,1307.71,0.2,25.2,74.6,10.9845,{"$f":"C103/N103","v":16.2934213805133},35.77,85.09,23.805,3.1102,119.16,80.26,293,{"$f":"M103*10000/O103","v":4066.89419795222},90.9,2691,null,564.07,426.3291,141.97,229.4133,117.25,229.4133,816.9,0.7514,null,null,null,148648,426,0.08,1.17,2.76,0.82]
["温州市鹿城区",2021,1262.03,0.2,24.2,75.6,10.6635,{"$f":"C104/N104","v":15.789190541724},41.44,78.69,21.3125,2.6995,118.95,79.93,293,{"$f":"M104*10000/O104","v":4059.72696245734},90.65,2712,null,{"$f":"T105*1.217","v":{"$error":"#REF!"}},316.5632,178.95,538.431,174.75,532.7557,799.53,0.2627,null,null,null,161916,402,0.1,0.43,2.72,0]
["温州市鹿城区",2020,1172.32,0.2,23.7,76.1,9.9332,{"$f":"C105/N105","v":14.7684555303603},35.29,74.57,18.5024,2.3345,117.82,{"$f":"N104-0.55","v":79.38},293,{"$f":"M105*10000/O105","v":4021.16040955631},90.45,2749,null,{"$f":"T106*1.041","v":{"$error":"#REF!"}},218.7228,187.32,441.0022,181.69,430.9673,744.97,0.4002,null,null,null,145734.32,364,0.11,3.52,4.07,0.64]
["温州市鹿城区",2019,1137.13,0.18,24.97,74.85,9.0536,{"$f":"C106/N106","v":14.4765117759389},34.39,68.19,12.9045,2.0211,126.26,78.55,293,{"$f":"M106*10000/O106","v":4309.21501706485},90.54,2777,null,{"$f":"#REF!*1.1","v":{"$error":"#REF!"}},200.7945,101.28,294.913,94.79,281.5603,775.23,0.5911,null,null,null,154633,312,0.08,2.6,2.61,0.08]
["温州市龙湾区",2023,922.43,0.3,57,42.7,12.41,{"$f":"C107/N107","v":26.7197529719834},54.08,75.12,16.81,8.75,{"$f":"C107/G107","v":74.3295729250604},34.5224,316,{"$f":"M107*10000/O107","v":2352.20167484368},null,null,null,{"$f":"T108*1.024","v":{"$error":"#REF!"}},{"$f":"U108*1.039","v":164.6809805},61.32,null,93.83,null,448.85,0.8557,null,null,null,514000,1277,0.05,0,1.27,0]
["温州市龙湾区",2022,868.58,0.4,58.7,40.9,11.8,{"$f":"C108/N108","v":25.1806841209605},49.18,73.71,15.7122,7.6002,73.83,34.4939,316,{"$f":"M108*10000/O108","v":2336.39240506329},{"$f":"73.83*100/73.89","v":99.9187982135607},3173,null,{"$f":"T109*0.945","v":{"$error":"#REF!"}},158.4995,56.65,null,99.3917,91.9712,433.47,0.3745,null,null,null,482100,1310,0.07,1.21,1.38,0.69]
["温州市龙湾区",2021,793.84,0.5,56.1,43.5,10.8753,23.14,64.19,68.46,14.574,6.5822,73.29,34.377,316,{"$f":"M109*10000/O109","v":2319.30379746835},{"$f":"73.22*100/73.29","v":99.9044890162369},3150,null,{"$f":"T110*1.098","v":{"$error":"#REF!"}},147.7958,90.72,null,172.8823,160.2531,426.12,0.733,null,null,null,462923,1166,0.07,2.08,2.11,0.25]
["温州市龙湾区",2020,717.4,0.4,53.4,46.2,9.8693,21.0131,55.88,71.16,13.7743,5.6904,72.7,34.2348,316,{"$f":"M110*10000/O110","v":2300.63291139241},{"$f":"72.59*100/72.7","v":99.8486932599725},3208,null,{"$f":"T111*1.04","v":{"$error":"#REF!"}},178.3597,122.79,null,237.2493,224.9905,390.21,0.3933,null,null,null,396385.04,1025,0.09,7.37,2.54,0.57]
["温州市龙湾区",2019,704.52,0.41,53.04,46.55,9.7667,20.7782,52.57,62.75,12.0512,4.9087,72.76,34.0465,319,{"$f":"M111*10000/O111","v":2280.87774294671},{"$f":"66.2*100/72.76","v":90.9840571742716},3264,null,{"$f":"#REF!*1.101","v":{"$error":"#REF!"}},194.1635,154.45,238.5316,129.44,214.0938,438.3,3.3452,null,null,null,103254,944,0.08,0.82,2.64,0.25]
["温州市瓯海区",2023,873.49,0.8,38.9,60.2,8.8009,{"$f":"C112/N112","v":18.0723315333209},42.85,70.59,16.852466,null,{"$f":"C112/G112","v":99.2500766967015},48.333,466,{"$f":"M112*10000/O112","v":2129.82997203222},null,null,null,{"$f":"T113*0.976","v":{"$error":"#REF!"}},{"$f":"U113*0.91","v":216.702122},90.36,null,143.21,null,407.38,0.3017,null,null,null,240800,803,0.1,0.48,1.91,0.28]
["温州市瓯海区",2022,804.87,0.9,40.5,58.6,8.2088,{"$f":"C113/N113","v":16.8445571781961},44.61,70.91,16.074,2.1495,98.3,47.7822,466,{"$f":"M113*10000/O113","v":2109.44206008584},{"$f":"82.78*100/98.3","v":84.2115971515768},5706,null,{"$f":"T114*0.965","v":{"$error":"#REF!"}},238.1342,77.18,null,150.5985,134.6113,373.51,0.941,null,null,null,226400,823,0.08,0.45,1.42,0.22]
["温州市瓯海区",2021,770.38,0.9,42.1,57,7.9363,{"$f":"C114/N114","v":16.2795661205488},50.01,66.6,14.9141,1.7673,97.82,47.3219,466,{"$f":"M114*10000/O114","v":2099.14163090129},{"$f":"81.97*100/97.82","v":83.7967695767737},5791,null,{"$f":"T115*1.102","v":{"$error":"#REF!"}},242.897,81.24,null,185.5485,173.3517,356.41,0.3509,null,null,null,249095,769,0.07,1.84,3.14,0.3]
["温州市瓯海区",2020,701.24,0.9,40.8,58.2,7.2815,{"$f":"C115/N115","v":14.9761765943315},43.1,68.9,13.8024,1.4642,96.32,46.8237,466,{"$f":"M115*10000/O115","v":2066.95278969957},{"$f":"80.25*100/96.32","v":83.3160299003322},5934,null,{"$f":"T116*1.051","v":{"$error":"#REF!"}},199.0217,81.76,null,182.5034,172.9972,319.38,0.1082,null,null,null,221234.87,702,0.08,0.88,3.43,0.37]
["温州市瓯海区",2019,661.12,1,42.1,56.9,6.9709,{"$f":"C116/N116","v":14.27177507793},42.01,70.14,12.5782,1.2694,95.37,46.3236,466,{"$f":"M116*10000/O116","v":2046.56652360515},{"$f":"83.76*100/95.37","v":87.8263604907203},6036,null,{"$f":"#REF!*1.101","v":{"$error":"#REF!"}},158.1881,45.41,93.6443,39.04,88.3863,337.19,0.8048,null,null,null,253840,664,0.11,1.25,0,1.28]
["温州市洞头区",2023,150.04,5.8,34.2,60,{"$f":"C117/M117","v":9.50823827629911},9.7787,16.42,47.65,null,null,15.78,15.32,273,{"$f":"M117*10000/O117","v":578.021978021978},null,null,null,{"$f":"T118*0.7","v":{"$error":"#REF!"}},10,5.8,null,null,null,73.26,{"$nulls":4},18400,null,0.04,0.23,0,0]
["温州市洞头区",2022,137.16,5.7,39.3,55,{"$f":"C118/M118","v":8.83762886597938},8.9166,17.31,48.25,5.3885,1.8496,15.52,15.36,273,{"$f":"M118*10000/O118","v":568.498168498169},{"$f":"8.75*100/15.52","v":56.3788659793814},1300,null,{"$f":"T119*1.258","v":{"$error":"#REF!"}},67.8161,31.58,null,45.3816,43.9246,61.38,0.0227,null,null,null,16900,107,0.15,0.22,0.23,0]
["温州市洞头区",2021,126.07,5.7,40.6,53.7,8.43,8.173,17.49,44.12,4.7579,1.4766,15.03,15.4,273,{"$f":"M119*10000/O119","v":550.549450549451},{"$f":"8.16*100/15.03","v":54.2914171656687},1307,null,{"$f":"T120*1.301","v":{"$error":"#REF!"}},78.1012,51.48,null,76.7935,74.4534,42.83,0.7269,null,null,null,17318,86,0,0.18,0,0.14]
["温州市洞头区",2020,114.42,5.7,41.5,52.8,7.9181,7.3949,10.02,31.64,4.5803,1.2624,14.88,15.45,273,{"$f":"M120*10000/O120","v":545.054945054945},{"$f":"7.86*100/14.88","v":52.8225806451613},1260,null,{"$f":"T121*1.154","v":{"$error":"#REF!"}},26.5712,47.08,null,62.8728,59.2198,36.11,0.3085,null,null,null,16560.47,63,0.05,0.68,0,0.23]
["温州市洞头区",2019,107.84,5.4,41.3,53.3,10.1883,6.9655,9.7,32.74,4.4345,0.9884,10.82,15.49,254,{"$f":"M121*10000/O121","v":425.984251968504},{"$f":"5.88*100/10.82","v":54.3438077634011},1283,null,{"$f":"#REF!*1.118","v":{"$error":"#REF!"}},24.6044,48.99,64.0536,44.91,59.3815,39.49,0.0555,null,null,null,14529,47,0.05,0.09,0,0.09]
["温州市瑞安市",2023,1285.1,2.3,43.9,53.8,8.3913,{"$f":"C122/N122","v":10.2725819344524},75.8,141.7,null,null,153.5,125.1,1342,{"$f":"M122*10000/O122","v":1143.81520119225},null,null,null,{"$f":"T123*1.08","v":{"$error":"#REF!"}},{"$f":"U123*0.899","v":129.2011335},62.1,null,null,null,622.2,0.4333,null,null,null,583000,1468,0.08,0.46,1.36,0.14]
["温州市瑞安市",2022,1197.87,2.4,45.3,52.3,7.8446,{"$f":"C123/N123","v":9.55239234449761},66.01,138.18,34.0547,4.7306,{"$f":"M122-0.7","v":152.8},125.4,1342,{"$f":"M123*10000/O123","v":1138.59910581222},{"$f":"103.84*100/152.8","v":67.9581151832461},24196,24.2,{"$f":"T124*0.963","v":{"$error":"#REF!"}},143.7165,51.65,null,83.23,73.218,582.92,0.7291,null,null,null,542900,1496,0.11,0.68,1.51,0.1]
["温州市瑞安市",2021,1148.98,2.4,46.4,51.2,7.5442,{"$f":"C124/N124","v":9.14574544296744},84.25,120.98,30.6997,4.0798,152.28,125.63,1342,{"$f":"M124*10000/O124","v":1134.72429210134},{"$f":"102.53*100/152.58","v":67.1975357189671},24325,23.1,{"$f":"T125*1.086","v":{"$error":"#REF!"}},192.7902,103.44,null,180.7985,142.5277,568.44,0.4741,null,null,null,565625,1387,0.1,0.46,1.66,0.38]
["温州市瑞安市",2020,1037.09,2.5,44.8,52.7,6.8385,{"$f":"C125/N125","v":8.23610228716645},81.91,103.7,29.0134,3.5363,152,125.92,1342,{"$f":"M125*10000/O125","v":1132.63785394933},{"$f":"101.25*100/152","v":66.6118421052632},24465,23.1,{"$f":"T126*1.043","v":{"$error":"#REF!"}},185.6939,143.33,null,263.8262,248.0306,519.82,0.2442,null,null,null,485415.78,1205,0.06,0.52,2.99,0.29]
["温州市瑞安市",2019,1003.96,2.5,45.8,51.7,6.9985,{"$f":"C126/N126","v":7.9793355587347},79.64,139.92,26.8235,3.0456,143.79,125.82,1350,{"$f":"M126*10000/O126","v":1065.11111111111},{"$f":"97.49*100/143.79","v":67.8002642742889},24596,23,{"$f":"#REF!*1.1","v":{"$error":"#REF!"}},189.6763,135.05,226.9003,121.66,209.9067,525.37,1.0137,null,null,null,493346,1021,0.1,0.33,1.84,0.21]
["温州市乐清市",2023,1663.53,1.4,44.5,54.1,11.305,{"$f":"C127/N127","v":12.6861130176161},97.05,128.62,38.52,3.21,147.58,131.13,1396,{"$f":"M127*10000/O127","v":1057.16332378224},67.9,null,null,{"$f":"T128*1.049","v":{"$error":"#REF!"}},{"$f":"U128*0.945","v":149.906106},{"$nulls":4},648.25,0.37,null,null,null,475500,2046,0.09,1.32,1.64,0.15]
["温州市乐清市",2022,1501.95,1.5,45.6,52.9,10.2487,{"$f":"C128/N128","v":11.4216730038023},83.47,131.08,35.7699,2.785,146.72,131.5,1396,{"$f":"M128*10000/O128","v":1051.00286532951},66.7,19112,24.48,{"$f":"T129*1.086","v":{"$error":"#REF!"}},158.6308,101.27,null,157.2523,145.1887,596.62,0.5829,null,null,null,428200,2081,0.09,1.45,2.06,0.08]
["温州市乐清市",2021,1433.48,1.5,46.9,51.6,9.8244,{"$f":"C129/N129","v":10.8869142553353},97.01,129.48,33.1546,2.4187,146.4,131.67,1396,{"$f":"M129*10000/O129","v":1048.7106017192},65.9,19179,24.48,{"$f":"T130*1.055","v":{"$error":"#REF!"}},165.9114,135.45,null,191.0679,169.7336,580.91,1.2795,null,null,null,447417,1869,0.11,1.05,1.96,0.33]
["温州市乐清市",2020,1263.01,1.7,46.9,51.5,8.6709,9.5934,94.38,126.38,30.8338,2.0975,{"$f":"M129-0.98","v":145.42},131.82,1396,{"$f":"M130*10000/O130","v":1041.69054441261},{"$f":"Q129-0.53","v":65.37},19130,24.48,{"$f":"T131*1.04","v":{"$error":"#REF!"}},164.055,178.63,null,216.2154,202.313,520.13,0.2345,null,null,null,381706.19,1572,0.08,3.99,1.31,0]
["温州市乐清市",2019,1209.93,1.7,46.1,52.2,8.4848,{"$f":"C131/N131","v":9.20168834131873},99.69,155.38,28.4797,1.821,142.85,131.49,1391,{"$f":"M131*10000/O131","v":1026.95902228612},57.61,19223,23.31,{"$f":"#REF!*1.101","v":{"$error":"#REF!"}},156.0757,162.2,200.6395,134.03,1528.9113,535.41,0.5265,null,null,null,362960,1348,0.08,0.32,0.14,0.07]
["温州市龙港市",2023,409.49,2.4,42.3,55.3,8.7034,{"$f":"C132/N132","v":10.7112215537536},20.47,39.23,{"$f":"K133*1.062","v":10.6236108},{"$f":"L133*1.15","v":0.59938},47.16,38.23,160,{"$f":"M132*10000/O132","v":2947.5},98.2,null,null,{"$f":"T133*1.306","v":{"$error":"#REF!"}},{"$f":"U133*1.017","v":57.1992327},39.89,null,null,null,167.34,{"$nulls":4},244400,null,0.1,0.16,1.03,0.11]
["温州市龙港市",2022,370.14,2.6,44.7,52.7,7.9005,{"$f":"C133/N133","v":9.65666579702583},22.91,38.01,10.0034,0.5212,46.94,38.33,160,{"$f":"M133*10000/O133","v":2933.75},97.98,null,25.83,{"$f":"T134*1.152","v":{"$error":"#REF!"}},56.2431,36.19,null,48.6571,48.218,154.44,0.4771,null,null,null,211700,421,0.07,0,1.09,0.09]
["温州市龙港市",2021,340.34,2.8,46.7,50.5,7.3002,{"$f":"C134/N134","v":8.8931277763261},20.03,32.28,8.268,0.4534,46.77,38.27,160,{"$f":"M134*10000/O134","v":2923.125},97.2,null,23.86,{"$f":"T135*1.115","v":{"$error":"#REF!"}},53.1853,34.4,null,45.1904,42.7648,145.68,0.1549,null,null,null,204820,388,0.06,0.19,1.42,0]
["温州市龙港市",2020,316.4,2.9,45.7,51.4,6.8191,{"$f":"C135/N135","v":8.28055482857891},17.05,25.77,7.2026,0.3665,{"$f":"M134-0.3","v":46.47},38.21,160,{"$f":"M135*10000/O135","v":2904.375},{"$f":"Q134-0.3","v":96.9},null,20.24,{"$f":"#REF!*1.001","v":{"$error":"#REF!"}},61.068,81.03,null,74.7374,73.2927,138.26,0.0729,null,null,null,170683.68,314,0.07,0,1.46,0.09]
["温州市永嘉县",2023,564.45,3.3,45.5,51.2,{"$f":"C136/M136","v":6.40692395005675},5.7606,40.87,101.05,25.54,4.03,88.1,97.99,2677,{"$f":"M136*10000/O136","v":329.099738513261},59.5,null,null,{"$f":"T137*1.124","v":{"$error":"#REF!"}},{"$f":"U137*1.021","v":106.8991084},32.4,null,null,null,281.75,0.2449,{"$nulls":4},625,0.08,0.28,1.3,0]
["温州市永嘉县",2022,516.68,3.7,44.3,52,{"$f":"C137/M137","v":5.9116704805492},5.2433,35.76,99.23,23.6885,3.4744,87.4,98.39,2677,{"$f":"M137*10000/O137","v":326.484871124393},58,24561,10.84,{"$f":"T138*1.094","v":{"$error":"#REF!"}},104.7004,30.08,null,51.2732,39.2413,260,0.2255,null,null,null,199969,653,0.08,1.43,0.97,0.14]
["温州市永嘉县",2021,486.34,3.8,42.8,53.4,5.5918,4.9244,41.34,89.96,21.0938,2.9549,87,98.69,2677,{"$f":"M138*10000/O138","v":324.990661187897},{"$f":"Q137-1.5","v":56.5},24694,10.84,{"$f":"T139*1.08","v":{"$error":"#REF!"}},95.7396,36.6,null,75.2982,73.943,252.4,0.042,null,null,null,200040,575,0.08,0.14,1.3,0]
["温州市永嘉县",2020,461.89,3.7,42.3,53.9,5.3161,4.6745,40.8,111.07,24.2473,2.5681,86.95,98.83,2677,{"$f":"M139*10000/O139","v":324.803884945835},{"$f":"48.29*100/86.95","v":55.5376653248994},24864,10.84,{"$f":"T140*1.042","v":{"$error":"#REF!"}},78.3963,117.2,null,199.2661,183.3187,247.82,0.2501,null,null,null,175395.89,495,0.07,0.77,1.93,0.09]
["温州市永嘉县",2019,444.52,3.6,43.6,52.7,5.3473,4.5092,39.53,109.23,23.2257,1.9862,83.32,98.79,2677,{"$f":"M140*10000/O140","v":311.243929772133},65.1,25056,10.84,{"$f":"#REF!*1.101","v":{"$error":"#REF!"}},101.0118,122.49,154.7018,90.73,123.713,216.69,0.3604,null,null,null,182504,471,0.06,1.82,1.7,1.71]
["温州市平阳县",2023,711.81,3.3,47.2,49.5,8.1959,{"$f":"C141/N141","v":8.16295871559633},40.03,97.71,21.4,null,87.1,87.2,1036,{"$f":"M141*10000/O141","v":840.733590733591},65.2,null,null,{"$f":"T142*1.152","v":{"$error":"#REF!"}},{"$f":"U142*0.911","v":91.9301943},63.87,null,null,null,301.64,0.2174,null,null,null,302300,null,0.07,0.17,0.46,0.53]
["温州市平阳县",2022,646.48,3.6,48.9,47.5,7.4621,{"$f":"C142/N142","v":7.37990867579909},36.74,90.63,19.7962,1.771,86.64,87.6,1036,{"$f":"M142*10000/O142","v":836.293436293436},63.8,19478,11.67,{"$f":"T143*1.173","v":{"$error":"#REF!"}},100.9113,75.97,null,82.9669,82.1882,278.91,0.0362,null,null,null,266700,783,0.07,0.19,0.79,0.12]
["温州市平阳县",2021,600.51,3.7,48.3,48,6.9459,{"$f":"C143/N143","v":6.83407306247866},42,93.98,17.7503,1.5255,86.59,87.87,1036,{"$f":"M143*10000/O143","v":835.810810810811},62.26,19615,11.67,{"$f":"T144*1.112","v":{"$error":"#REF!"}},82.1136,104.45,null,103.8816,97.5366,266.11,0.2809,null,null,null,276376,692,0.06,0.3,0.79,0.08]
["温州市平阳县",2020,534.51,3.9,46.3,49.8,6.2142,{"$f":"C144/N144","v":6.05334088335221},36.49,91.75,16.3517,1.3239,86.32,88.3,1036,{"$f":"M144*10000/O144","v":833.204633204633},61.7,18964,11.67,{"$f":"T145*1.04","v":{"$error":"#REF!"}},50.0751,173.67,null,140.0345,107.7736,233.23,1.0326,null,null,null,247121.61,576,0.07,1.41,0.81,0.1]
["温州市平阳县",2019,510.29,3.6,44.8,51.5,6.3259,{"$f":"C145/N145","v":5.76924816280384},38.03,90.88,16.0719,1.1508,80.38,88.45,1042,{"$f":"M145*10000/O145","v":771.401151631478},58.4,19319,11.46,{"$f":"#REF!*1.101","v":{"$error":"#REF!"}},52.6778,226.51,173.8888,129.34,142.4697,239.01,0.4104,null,null,null,239490,503,0.06,1.15,0.61,0.22]
["温州市苍南县",2023,471.92,null,null,null,{"$f":"C146/M146","v":5.56181496758987},null,32.79,100.7971,22.05,null,84.85,null,1079.33,{"$f":"M146*10000/O146","v":786.135843532562},71.5,null,null,273.36,{"$nulls":5},288.91,null,null,null,{"$f":"C146*0.0146","v":6.890032},null,null,0.08,0.14,1.15,0.2]
["温州市苍南县",2022,427.56,7.3,38.1,54.6,5.0509,{"$f":"C147/N147","v":4.47706806282723},30.27,89.32,20.3131,1.2236,84.72,95.5,1079.33,{"$f":"M147*10000/O147","v":784.931392623202},70.2,16630,18.68,{"$f":"T148*1.361","v":242.20356},43.5785,40.96,null,53.8157,53.0676,268,0.5168,null,null,null,237400,442,0.09,0.26,1.21,0.23]
["温州市苍南县",2021,399.62,7.3,37.8,54.9,4.7298,{"$f":"C148/N148","v":4.16184128306603},30.18,85.3758,19.601,1.0634,84.58,96.02,1079.33,{"$f":"M148*10000/O148","v":783.63429164389},68.7,16836,18.2,177.96,35.1914,40.5,null,58.6147,53.7594,254.02,1.0059,null,null,null,234886,387,0.05,1.73,1.83,0.09]
["温州市苍南县",2020,363.09,7.7,35.2,57.1,4.3084,{"$f":"C149/N149","v":3.75752871778951},26.35,78.33,18.759,0.9207,84.4,96.63,1079.33,{"$f":"M149*10000/O149","v":781.966590384776},{"$f":"57.52*100/84.4","v":68.1516587677725},17028,16.99,{"$f":"T148/1.256","v":141.687898089172},28.183,36.88,null,48.9566,46.8601,244.21,0.2033,null,null,null,201652.23,333,0.07,1.53,1.13,0.17]
["温州市苍南县",2019,652.21,5.4,41.1,53.5,5.228,{"$f":"C150/N150","v":4.83011182700141},42.46,113.75,24.8808,1.1632,{"$f":"38.87+85.42","v":124.29},135.03,1252.9,{"$f":"M150*10000/O150","v":992.018517040466},63.94,22409,16.58,{"$f":"#REF!*1.1","v":{"$error":"#REF!"}},107.0179,113.2,141.6048,107.67,136.058,395.94,0.3428,null,null,null,383270,570,0.05,0.91,0.84,0.46]
["温州市文成县",2023,136.81,7.8,24.7,67.5,{"$f":"C151/M151","v":4.68206707734428},{"$f":"C151/N151","v":3.39816194734228},11.47,53.98,9.107921,0.845,29.22,40.26,1296,{"$f":"M151*10000/O151","v":225.462962962963},47.7,null,null,{"$f":"T152*1.1","v":78.685332},{"$f":"U152*0.822","v":14.9584272},12.03,null,9.31,null,62.1,{"$nulls":4},22200,null,0.03,0,0,0.04]
["温州市文成县",2022,126.55,8.5,25.8,65.7,{"$f":"C152/M152","v":4.35928349982776},{"$f":"C152/N152","v":3.13242574257426},10.77,50.59,8.67,0.7345,29.03,40.4,1296,{"$f":"M152*10000/O152","v":223.996913580247},46.1,14351,5.1,{"$f":"T153*1.153","v":71.53212},18.1976,10.46,10.2404,5.41,5.5681,51.82,0.1731,null,null,null,19700,60,0.03,0,0.75,0.12]
["温州市文成县",2021,116.52,8.4,26.3,65.3,4.041,{"$f":"C153/N153","v":2.86501106466683},11.75,53.8,8.5924,0.6383,28.85,40.67,1296,{"$f":"M153*10000/O153","v":222.608024691358},44.3,14418,5.1,62.04,18.0572,8.5,10.4304,5.65,7.2778,50.71,{"$nulls":4},18725,54,0.02,0.57,0.51,0.1]
["温州市文成县",2020,112.01,8.7,25.3,66,3.9262,{"$f":"C154/N154","v":2.73528693528694},10.22,51.03,8.581,0.5548,28.82,40.95,1296,{"$f":"M154*10000/O154","v":222.376543209877},{"$f":"12.51*100/28.82","v":43.4073560027758},14336,5.1,54.86,16.9747,15.11,188.8532,11.6,46.0428,48.67,0.0221,null,null,null,15155.88,43,0.02,0.19,0,0.06]
["温州市文成县",2019,104.91,8.9,23.2,67.9,4.2829,{"$f":"C155/N155","v":2.55379746835443},9.63,56.14,8.1259,0.4809,24.57,41.08,1296,{"$f":"M155*10000/O155","v":189.583333333333},49.6,14384,5.1,48.9,5.7545,18.07,24.9436,15.99,23.4254,50.63,0.0621,null,null,null,15416,36,0.02,0.04,0,0.11]
["温州市泰顺县",2023,157.6,7,38.1,54.9,5.8695,{"$f":"C156/N156","v":4.31426225020531},16.02,61.57,8.11,0.5554,26.94,36.53,1768,{"$f":"M156*10000/O156","v":152.37556561086},49.2,null,null,{"$f":"T157*1.154","v":{"$error":"#REF!"}},16.28,12.25,null,11.88,null,71.87,{"$nulls":4},28200,55,0.05,0.06,0.58,0.04]
["温州市泰顺县",2022,143.98,7.8,36.3,55.8,5.3927,{"$f":"C157/N157","v":3.91356346833379},15.1,59.73,7.9582,0.4827,26.78,36.79,1768,{"$f":"M157*10000/O157","v":151.470588235294},47.6,17634,8.9,{"$f":"T158*1.188","v":{"$error":"#REF!"}},14.897,19.31,17.2756,13.76,14.6979,66.19,0.029,null,null,null,24800,56,0.04,0.13,0.74,0.06]
["温州市泰顺县",2021,132.41,8.1,34.8,57.1,4.9739,3.5708,15.88,56.65,7.9061,0.4147,26.64,36.97,1768,{"$f":"M158*10000/O158","v":150.678733031674},{"$f":"12.2*100/26.64","v":45.7957957957958},17669,11.85,{"$f":"T159*1.024","v":{"$error":"#REF!"}},12.8504,20.58,19.7322,16.14,17.9691,64.5,0.022,null,null,null,22639,44,0.04,0.07,1.63,0.04]
["温州市泰顺县",2020,121.99,8.3,34.1,57.6,4.6008,3.2757,13.8,48.86,7.7894,0.354,26.6,37.19,1769,{"$f":"M159*10000/O159","v":150.367439231204},{"$f":"11.92*100/26.6","v":44.812030075188},17786,11.85,{"$f":"T160*1.09","v":{"$error":"#REF!"}},11.0382,19.91,20.0089,17.8,19.1305,54.99,0.002,null,null,null,18661.49,32,0.04,1.93,0.54,0.08]
["温州市泰顺县",2019,110.6,8.6,33.5,57.9,4.3236,2.9633,10.1,55.55,7.2678,0.3075,25.59,37.3,1768,{"$f":"M160*10000/O160","v":144.739819004525},50.49,17900,11.85,{"$f":"#REF!*1.12","v":{"$error":"#REF!"}},9.8885,12.21,11.4118,10.16,9.9006,55.27,0.0717,null,null,null,15201,25,0.03,0,0,0.02]